BEGIN:VCALENDAR
VERSION:2.0
PRODID:-//Asheville Racquet Club - ECPv6.15.20//NONSGML v1.0//EN
CALSCALE:GREGORIAN
METHOD:PUBLISH
X-ORIGINAL-URL:https://ashevilleracquetclub.com
X-WR-CALDESC:Events for Asheville Racquet Club
REFRESH-INTERVAL;VALUE=DURATION:PT1H
X-Robots-Tag:noindex
X-PUBLISHED-TTL:PT1H
BEGIN:VTIMEZONE
TZID:America/New_York
BEGIN:DAYLIGHT
TZOFFSETFROM:-0500
TZOFFSETTO:-0400
TZNAME:EDT
DTSTART:20220313T070000
END:DAYLIGHT
BEGIN:STANDARD
TZOFFSETFROM:-0400
TZOFFSETTO:-0500
TZNAME:EST
DTSTART:20221106T060000
END:STANDARD
BEGIN:DAYLIGHT
TZOFFSETFROM:-0500
TZOFFSETTO:-0400
TZNAME:EDT
DTSTART:20230312T070000
END:DAYLIGHT
BEGIN:STANDARD
TZOFFSETFROM:-0400
TZOFFSETTO:-0500
TZNAME:EST
DTSTART:20231105T060000
END:STANDARD
BEGIN:DAYLIGHT
TZOFFSETFROM:-0500
TZOFFSETTO:-0400
TZNAME:EDT
DTSTART:20240310T070000
END:DAYLIGHT
BEGIN:STANDARD
TZOFFSETFROM:-0400
TZOFFSETTO:-0500
TZNAME:EST
DTSTART:20241103T060000
END:STANDARD
END:VTIMEZONE
BEGIN:VEVENT
DTSTART;TZID=America/New_York:20230728T160000
DTEND;TZID=America/New_York:20230728T173000
DTSTAMP:20260419T114003
CREATED:20230622T191921Z
LAST-MODIFIED:20230622T192215Z
UID:14059-1690560000-1690565400@ashevilleracquetclub.com
SUMMARY:Jr. Pickleball Social
DESCRIPTION:The social is open to brand new juniors who are wanting to learn and to beginners who have played before. For any ages from 7-14. To sign up\, please call the font desk at ARC South at 828-274-3361. The cost to participate is $10 for members and $20 for non-members. Pizza will be provided.
URL:https://ashevilleracquetclub.com/event/jr-pickleball-social/
LOCATION:Asheville Racquet Club South\, 200 Racquet Club Rd\, Asheville\, NC\, 28803\, United States
ORGANIZER;CN="Asheville Racquet Club":MAILTO:info@ashevilleracquetclub.com
END:VEVENT
BEGIN:VEVENT
DTSTART;TZID=America/New_York:20230728T173000
DTEND;TZID=America/New_York:20230728T200000
DTSTAMP:20260419T114003
CREATED:20230622T192142Z
LAST-MODIFIED:20230622T192142Z
UID:14060-1690565400-1690574400@ashevilleracquetclub.com
SUMMARY:Adult Pickleball Potluck
DESCRIPTION:Players can come play pickleball and/or to socialize. Players will bring their favorite dish to share with others. This event is for ARC members only. Signups will be through PlayTime Scheduler: https://playtimescheduler.com.
URL:https://ashevilleracquetclub.com/event/adult-pickleball-potluck/
LOCATION:NC
END:VEVENT
BEGIN:VEVENT
DTSTART;TZID=America/New_York:20230728T180000
DTEND;TZID=America/New_York:20230728T200000
DTSTAMP:20260419T114003
CREATED:20230622T185835Z
LAST-MODIFIED:20230622T185835Z
UID:14055-1690567200-1690574400@ashevilleracquetclub.com
SUMMARY:Golden Oak Pro League
DESCRIPTION:Watch a Professional Doubles Tennis Match at ARC South\, and join us for free food. We will start grilling at 6:00 when the match starts.
URL:https://ashevilleracquetclub.com/event/golden-oak-pro-league-4/
LOCATION:Asheville Racquet Club South\, 200 Racquet Club Rd\, Asheville\, NC\, 28803\, United States
ORGANIZER;CN="Asheville Racquet Club":MAILTO:info@ashevilleracquetclub.com
END:VEVENT
END:VCALENDAR