BEGIN:VCALENDAR
VERSION:2.0
PRODID:-//Asheville Racquet Club - ECPv6.15.20//NONSGML v1.0//EN
CALSCALE:GREGORIAN
METHOD:PUBLISH
X-WR-CALNAME:Asheville Racquet Club
X-ORIGINAL-URL:https://ashevilleracquetclub.com
X-WR-CALDESC:Events for Asheville Racquet Club
REFRESH-INTERVAL;VALUE=DURATION:PT1H
X-Robots-Tag:noindex
X-PUBLISHED-TTL:PT1H
BEGIN:VTIMEZONE
TZID:America/New_York
BEGIN:DAYLIGHT
TZOFFSETFROM:-0500
TZOFFSETTO:-0400
TZNAME:EDT
DTSTART:20220313T070000
END:DAYLIGHT
BEGIN:STANDARD
TZOFFSETFROM:-0400
TZOFFSETTO:-0500
TZNAME:EST
DTSTART:20221106T060000
END:STANDARD
BEGIN:DAYLIGHT
TZOFFSETFROM:-0500
TZOFFSETTO:-0400
TZNAME:EDT
DTSTART:20230312T070000
END:DAYLIGHT
BEGIN:STANDARD
TZOFFSETFROM:-0400
TZOFFSETTO:-0500
TZNAME:EST
DTSTART:20231105T060000
END:STANDARD
BEGIN:DAYLIGHT
TZOFFSETFROM:-0500
TZOFFSETTO:-0400
TZNAME:EDT
DTSTART:20240310T070000
END:DAYLIGHT
BEGIN:STANDARD
TZOFFSETFROM:-0400
TZOFFSETTO:-0500
TZNAME:EST
DTSTART:20241103T060000
END:STANDARD
END:VTIMEZONE
BEGIN:VEVENT
DTSTART;TZID=America/New_York:20230811T070000
DTEND;TZID=America/New_York:20230813T170000
DTSTAMP:20260421T094415
CREATED:20230622T192423Z
LAST-MODIFIED:20230622T192458Z
UID:14061-1691737200-1691946000@ashevilleracquetclub.com
SUMMARY:Banana Open- Singles
DESCRIPTION:Banana Open Singles Tennis Tournament
URL:https://ashevilleracquetclub.com/event/banana-open-singles-2/
LOCATION:Asheville Racquet Club South\, 200 Racquet Club Rd\, Asheville\, NC\, 28803\, United States
END:VEVENT
BEGIN:VEVENT
DTSTART;TZID=America/New_York:20230812T170000
DTEND;TZID=America/New_York:20230812T190000
DTSTAMP:20260421T094415
CREATED:20230622T190003Z
LAST-MODIFIED:20230802T200921Z
UID:14056-1691859600-1691866800@ashevilleracquetclub.com
SUMMARY:Golden Oak Pro League
DESCRIPTION:Watch a Professional Doubles Tennis Match at ARC South\, and join us for free food. We will start grilling at 6:00 when the match starts.
URL:https://ashevilleracquetclub.com/event/golden-oak-pro-league-5/
LOCATION:Asheville Racquet Club South\, 200 Racquet Club Rd\, Asheville\, NC\, 28803\, United States
ORGANIZER;CN="Asheville Racquet Club":MAILTO:info@ashevilleracquetclub.com
END:VEVENT
END:VCALENDAR